BEGIN:VCALENDAR
VERSION:2.0
PRODID:-//ATHENA Leadership Foundation - ECPv4.9.14.1//NONSGML v1.0//EN
CALSCALE:GREGORIAN
METHOD:PUBLISH
X-WR-CALNAME:ATHENA Leadership Foundation
X-ORIGINAL-URL:https://athenamo.org
X-WR-CALDESC:Events for ATHENA Leadership Foundation
BEGIN:VTIMEZONE
TZID:America/Chicago
BEGIN:DAYLIGHT
TZOFFSETFROM:-0600
TZOFFSETTO:-0500
TZNAME:CDT
DTSTART:20230312T080000
END:DAYLIGHT
BEGIN:STANDARD
TZOFFSETFROM:-0500
TZOFFSETTO:-0600
TZNAME:CST
DTSTART:20231105T070000
END:STANDARD
END:VTIMEZONE
BEGIN:VEVENT
DTSTART;TZID=America/Chicago:20230119T073000
DTEND;TZID=America/Chicago:20230119T090000
DTSTAMP:20260424T120227
CREATED:20221102T165151Z
LAST-MODIFIED:20221216T195523Z
UID:770-1674113400-1674118800@athenamo.org
SUMMARY:What's on your Bookshelf?
DESCRIPTION:\n  \n\n  \n  \nThis event is Open for Members and Non-Members.  Attendees are responsible for all food/beverage expenses. \nRegistration is required. \n  \n  \nvar gform;gform||(document.addEventListener("gform_main_scripts_loaded"\,function(){gform.scriptsLoaded=!0})\,window.addEventListener("DOMContentLoaded"\,function(){gform.domLoaded=!0})\,gform={domLoaded:!1\,scriptsLoaded:!1\,initializeOnLoaded:function(o){gform.domLoaded&&gform.scriptsLoaded?o():!gform.domLoaded&&gform.scriptsLoaded?window.addEventListener("DOMContentLoaded"\,o):document.addEventListener("gform_main_scripts_loaded"\,o)}\,hooks:{action:{}\,filter:{}}\,addAction:function(o\,n\,r\,t){gform.addHook("action"\,o\,n\,r\,t)}\,addFilter:function(o\,n\,r\,t){gform.addHook("filter"\,o\,n\,r\,t)}\,doAction:function(o){gform.doHook("action"\,o\,arguments)}\,applyFilters:function(o){return gform.doHook("filter"\,o\,arguments)}\,removeAction:function(o\,n){gform.removeHook("action"\,o\,n)}\,removeFilter:function(o\,n\,r){gform.removeHook("filter"\,o\,n\,r)}\,addHook:function(o\,n\,r\,t\,i){null==gform.hooks[o][n]&&(gform.hooks[o][n]=[]);var e=gform.hooks[o][n];null==i&&(i=n+"_"+e.length)\,gform.hooks[o][n].push({tag:i\,callable:r\,priority:t=null==t?10:t})}\,doHook:function(n\,o\,r){var t;if(r=Array.prototype.slice.call(r\,1)\,null!=gform.hooks[n][o]&&((o=gform.hooks[n][o]).sort(function(o\,n){return o.priority-n.priority})\,o.forEach(function(o){"function"!=typeof(t=o.callable)&&(t=window[t])\,"action"==n?t.apply(null\,r):r[0]=t.apply(null\,r)}))\,"filter"==n)return r[0]}\,removeHook:function(o\,n\,t\,i){var r;null!=gform.hooks[o][n]&&(r=(r=gform.hooks[o][n]).filter(function(o\,n\,r){return!!(null!=i&&i!=o.tag||null!=t&&t!=o.priority)})\,gform.hooks[o][n]=r)}});\n                \n                        \n                            What's On Your Bookshelf?\n                            \n                        \n                        Name*\n                            \n                            \n                                                    \n                                                    First\n                                                \n                            \n                            \n                                                    \n                                                    Last\n                                                \n                            \n                        Email*\n                            \n                        Company Name* EmailThis field is for validation purposes and should be left unchanged.\n          \n            \n            \n            \n            \n            \n            \n            \n            \n            \n        \n                        \n                        \n
URL:https://athenamo.org/event/whats-on-your-bookshelf-3/
LOCATION:La Belle Vie / The Cafe at Frenchtown\, 1200 N 2nd Street\, St. Charles\, MO\, 63301\, United States
END:VEVENT
END:VCALENDAR