BEGIN:VCALENDAR
VERSION:2.0
PRODID:-//ATHENA Leadership Foundation - ECPv4.9.14.1//NONSGML v1.0//EN
CALSCALE:GREGORIAN
METHOD:PUBLISH
X-WR-CALNAME:ATHENA Leadership Foundation
X-ORIGINAL-URL:https://athenamo.org
X-WR-CALDESC:Events for ATHENA Leadership Foundation
BEGIN:VTIMEZONE
TZID:America/Chicago
BEGIN:DAYLIGHT
TZOFFSETFROM:-0600
TZOFFSETTO:-0500
TZNAME:CDT
DTSTART:20240310T080000
END:DAYLIGHT
BEGIN:STANDARD
TZOFFSETFROM:-0500
TZOFFSETTO:-0600
TZNAME:CST
DTSTART:20241103T070000
END:STANDARD
END:VTIMEZONE
BEGIN:VEVENT
DTSTART;TZID=America/Chicago:20240926T113000
DTEND;TZID=America/Chicago:20240926T130000
DTSTAMP:20260422T132943
CREATED:20240812T160940Z
LAST-MODIFIED:20240909T183130Z
UID:1482-1727350200-1727355600@athenamo.org
SUMMARY:ATHENA Speaker Luncheon
DESCRIPTION:\n  \nYour financial decisions today help set you up for your future. Learn to make them well! Join me for the seminar\, “Savvy Women\, Smart Investors\,” where we’ll cover financial matters relevant to you and how to balance current needs and long-term goals\, like retirement and caring for loved ones. You’ll leave equipped with the knowledge and confidence to take your financial journey — wherever you may want to go. \n  \nMore about Sarah: \nAs an Edward Jones financial advisor\, I believe it’s important to invest my time in understanding what you’re working toward before you invest your money. Working closely with you and your CPA\, attorney and other professionals\, I can determine the most appropriate financial strategy for you and your family. I can also help with your retirement saving strategy\, so you have more options when you retire\, regardless of what you decide to do. \nIn 2004\, I began my Edward Jones career at the headquarters\, where I worked in retirement operations and financial advisor recruiting. I became a financial advisor in 2009 and became a limited partner with Edward Jones in 2010. \nRead More… \nThis is a brown bag lunch event.  However\, ATHENA will be providing beverages and a light dessert.  The event will be held in the Partner’s Room at the EDC. \n  \n\nvar gform;gform||(document.addEventListener("gform_main_scripts_loaded"\,function(){gform.scriptsLoaded=!0})\,window.addEventListener("DOMContentLoaded"\,function(){gform.domLoaded=!0})\,gform={domLoaded:!1\,scriptsLoaded:!1\,initializeOnLoaded:function(o){gform.domLoaded&&gform.scriptsLoaded?o():!gform.domLoaded&&gform.scriptsLoaded?window.addEventListener("DOMContentLoaded"\,o):document.addEventListener("gform_main_scripts_loaded"\,o)}\,hooks:{action:{}\,filter:{}}\,addAction:function(o\,n\,r\,t){gform.addHook("action"\,o\,n\,r\,t)}\,addFilter:function(o\,n\,r\,t){gform.addHook("filter"\,o\,n\,r\,t)}\,doAction:function(o){gform.doHook("action"\,o\,arguments)}\,applyFilters:function(o){return gform.doHook("filter"\,o\,arguments)}\,removeAction:function(o\,n){gform.removeHook("action"\,o\,n)}\,removeFilter:function(o\,n\,r){gform.removeHook("filter"\,o\,n\,r)}\,addHook:function(o\,n\,r\,t\,i){null==gform.hooks[o][n]&&(gform.hooks[o][n]=[]);var e=gform.hooks[o][n];null==i&&(i=n+"_"+e.length)\,gform.hooks[o][n].push({tag:i\,callable:r\,priority:t=null==t?10:t})}\,doHook:function(n\,o\,r){var t;if(r=Array.prototype.slice.call(r\,1)\,null!=gform.hooks[n][o]&&((o=gform.hooks[n][o]).sort(function(o\,n){return o.priority-n.priority})\,o.forEach(function(o){"function"!=typeof(t=o.callable)&&(t=window[t])\,"action"==n?t.apply(null\,r):r[0]=t.apply(null\,r)}))\,"filter"==n)return r[0]}\,removeHook:function(o\,n\,t\,i){var r;null!=gform.hooks[o][n]&&(r=(r=gform.hooks[o][n]).filter(function(o\,n\,r){return!!(null!=i&&i!=o.tag||null!=t&&t!=o.priority)})\,gform.hooks[o][n]=r)}});\n                \n                        \n                            ATHENA Speaker Luncheon 09.26.24 (Non-Member)\n                        \n                        Name*\n                            \n                            \n                                                    \n                                                    First\n                                                \n                            \n                            \n                                                    \n                                                    Last\n                                                \n                            \n                        Company Name* Email*\n                            \n                        Ticket Level*\n			\n				\n				Individual(s) ticket - $10/person\n			How many tickets?*Please enter a number greater than or equal to 1.Guest Info - First & Last Name\, Business Name\, and Email AddressTotal\n							$0.00\n							\n						CAPTCHA\n          \n            \n            \n            \n            \n            \n            \n            \n            \n            \n        \n                        \n                        \n                \n                 gform.initializeOnLoaded( function() {gformInitSpinner( 101\, 'https://athenamo.org/app/plugins/gravityforms/images/spinner.svg' );jQuery('#gform_ajax_frame_101').on('load'\,function(){var contents = jQuery(this).contents().find('*').html();var is_postback = contents.indexOf('GF_AJAX_POSTBACK') >= 0;if(!is_postback){return;}var form_content = jQuery(this).contents().find('#gform_wrapper_101');var is_confirmation = jQuery(this).contents().find('#gform_confirmation_wrapper_101').length > 0;var is_redirect = contents.indexOf('gformRedirect(){') >= 0;var is_form = form_content.length > 0 && ! is_redirect && ! is_confirmation;var mt = parseInt(jQuery('html').css('margin-top')\, 10) + parseInt(jQuery('body').css('margin-top')\, 10) + 100;if(is_form){jQuery('#gform_wrapper_101').html(form_content.html());if(form_content.hasClass('gform_validation_error')){jQuery('#gform_wrapper_101').addClass('gform_validation_error');} else {jQuery('#gform_wrapper_101').removeClass('gform_validation_error');}setTimeout( function() { /* delay the scroll by 50 milliseconds to fix a bug in chrome */ jQuery(document).scrollTop(jQuery('#gform_wrapper_101').offset().top - mt); }\, 50 );if(window['gformInitDatepicker']) {gformInitDatepicker();}if(window['gformInitPriceFields']) {gformInitPriceFields();}var current_page = jQuery('#gform_source_page_number_101').val();gformInitSpinner( 101\, 'https://athenamo.org/app/plugins/gravityforms/images/spinner.svg' );jQuery(document).trigger('gform_page_loaded'\, [101\, current_page]);window['gf_submitting_101'] = false;}else if(!is_redirect){var confirmation_content = jQuery(this).contents().find('.GF_AJAX_POSTBACK').html();if(!confirmation_content){confirmation_content = contents;}setTimeout(function(){jQuery('#gform_wrapper_101').replaceWith(confirmation_content);jQuery(document).scrollTop(jQuery('#gf_101').offset().top - mt);jQuery(document).trigger('gform_confirmation_loaded'\, [101]);window['gf_submitting_101'] = false;wp.a11y.speak(jQuery('#gform_confirmation_message_101').text());}\, 50);}else{jQuery('#gform_101').append(contents);if(window['gformRedirect']) {gformRedirect();}}jQuery(document).trigger('gform_post_render'\, [101\, current_page]);} );} );  \nYou will be redirected to PayPal. \n \n  \n  \n
URL:https://athenamo.org/event/athena-speaker-luncheon-september-2024/
LOCATION:EDC- 5988 Mid Rivers Mall Dr\, St Peters\, MO 63304
END:VEVENT
END:VCALENDAR