BEGIN:VCALENDAR
VERSION:2.0
PRODID:-//ATHENA Leadership Foundation - ECPv4.9.14.1//NONSGML v1.0//EN
CALSCALE:GREGORIAN
METHOD:PUBLISH
X-WR-CALNAME:ATHENA Leadership Foundation
X-ORIGINAL-URL:https://athenamo.org
X-WR-CALDESC:Events for ATHENA Leadership Foundation
BEGIN:VTIMEZONE
TZID:America/Chicago
BEGIN:DAYLIGHT
TZOFFSETFROM:-0600
TZOFFSETTO:-0500
TZNAME:CDT
DTSTART:20240310T080000
END:DAYLIGHT
BEGIN:STANDARD
TZOFFSETFROM:-0500
TZOFFSETTO:-0600
TZNAME:CST
DTSTART:20241103T070000
END:STANDARD
END:VTIMEZONE
BEGIN:VEVENT
DTSTART;TZID=America/Chicago:20240822T113000
DTEND;TZID=America/Chicago:20240822T130000
DTSTAMP:20260422T185803
CREATED:20240711T045326Z
LAST-MODIFIED:20240819T192001Z
UID:1450-1724326200-1724331600@athenamo.org
SUMMARY:ATHENA Speaker Luncheon
DESCRIPTION:Be BRAVE: Tackling Courageous Conversations\n  \n \n  \nKelly Dunkle\nExecutive Office Manager\nCottleville Fire Protection District\n  \nAre you frustrated with a co-worker’s poor performance but unsure how to address it? Does the thought of conversing with someone with a different opinion intimidate you? Are you hesitant to engage with certain coworkers knowing the conversation could go south? If you lead a team\, your job responsibilities require having tough conversations often\, but that does not mean you are always comfortable having them. Regardless of your position at home or work\, we all have opportunities for courageous conversations. In this presentation\, Kelly Dunkle will explain the importance of these conversations and how to make them more comfortable and effective. She will discuss: \n• Factors leading to fear of tough conversations \n• How to prepare for the conversation \n• How being B.R.A.V.E. will help keep the conversation going in a positive direction \n• The importance of and how to follow up \n  \nDuring the presentation\, you will learn the following: \n\nWhy people do not engage in difficult conversations\nThe difference between a disciplinary conversation and a tough conversation\nHow to prepare for difficult conversations\nHow to successfully navigate through a difficult conversation\nWhen and how to utilize tools for successful documentation and follow-up\n\nMore about Kelly: \nKelly Dunkle is a dynamic professional dedicated to the principles of kindness\, consistency\, and continuous improvement. Kelly’s journey in the world of HR began with a strong desire to make a positive impact on people’s lives. Kelly obtained her undergraduate degree in Human Resources Management from Lindenwood University. She is SHRM-CP and PHR certified. She has two Masters Degrees from Webster University\, one in Human Resources Development and the other in Management and Leadership. Kelly spent 10+ years in HR at a private-sector global manufacturer and then moved to the public sector as the Executive Office Manager of Cottleville Fire Protection District in 2020. \nBeyond her profession\, Kelly is engaged in various organizations that share her commitment to bettering people’s lives. She serves as a Trustee for the Local 2665 Firefighters Health and Welfare Trust\, is the Secretary for the local Lewis and Clark Chapter of SHRM\, and a Director for Cottleville Firefighters Outreach. She is also actively involved as a member of Athena Leadership and LBB: Women in Business. \nKelly is a passionate advocate for open communication and education\, firmly believing that these elements are key to enhancing the well-being and success of any organization. She is an advocate for open and honest dialogue\, encouraging individuals to address difficult subjects with courage and compassion. Her expertise in this area has made her a sought-after speaker\, providing guidance and inspiration to students and organizations on how to engage in these crucial conversations. Above all else\, Kelly is a wife to Philip and a mom to her 6-year-old son Rowan. They love to travel and adventure through life together. \n  \nThis is a brown bag lunch event.  However\, ATHENA will be providing beverages and a light dessert.  The event will be held in the Partner’s Room at the EDC. \n  \n\nvar gform;gform||(document.addEventListener("gform_main_scripts_loaded"\,function(){gform.scriptsLoaded=!0})\,window.addEventListener("DOMContentLoaded"\,function(){gform.domLoaded=!0})\,gform={domLoaded:!1\,scriptsLoaded:!1\,initializeOnLoaded:function(o){gform.domLoaded&&gform.scriptsLoaded?o():!gform.domLoaded&&gform.scriptsLoaded?window.addEventListener("DOMContentLoaded"\,o):document.addEventListener("gform_main_scripts_loaded"\,o)}\,hooks:{action:{}\,filter:{}}\,addAction:function(o\,n\,r\,t){gform.addHook("action"\,o\,n\,r\,t)}\,addFilter:function(o\,n\,r\,t){gform.addHook("filter"\,o\,n\,r\,t)}\,doAction:function(o){gform.doHook("action"\,o\,arguments)}\,applyFilters:function(o){return gform.doHook("filter"\,o\,arguments)}\,removeAction:function(o\,n){gform.removeHook("action"\,o\,n)}\,removeFilter:function(o\,n\,r){gform.removeHook("filter"\,o\,n\,r)}\,addHook:function(o\,n\,r\,t\,i){null==gform.hooks[o][n]&&(gform.hooks[o][n]=[]);var e=gform.hooks[o][n];null==i&&(i=n+"_"+e.length)\,gform.hooks[o][n].push({tag:i\,callable:r\,priority:t=null==t?10:t})}\,doHook:function(n\,o\,r){var t;if(r=Array.prototype.slice.call(r\,1)\,null!=gform.hooks[n][o]&&((o=gform.hooks[n][o]).sort(function(o\,n){return o.priority-n.priority})\,o.forEach(function(o){"function"!=typeof(t=o.callable)&&(t=window[t])\,"action"==n?t.apply(null\,r):r[0]=t.apply(null\,r)}))\,"filter"==n)return r[0]}\,removeHook:function(o\,n\,t\,i){var r;null!=gform.hooks[o][n]&&(r=(r=gform.hooks[o][n]).filter(function(o\,n\,r){return!!(null!=i&&i!=o.tag||null!=t&&t!=o.priority)})\,gform.hooks[o][n]=r)}});\n                \n                        \n                            ATHENA Speaker Luncheon (Non-Member)\n                        \n                        Name*\n                            \n                            \n                                                    \n                                                    First\n                                                \n                            \n                            \n                                                    \n                                                    Last\n                                                \n                            \n                        Company Name* Email*\n                            \n                        Ticket Level*\n			\n				\n				Individual(s) ticket - $10/person\n			How many tickets?*Please enter a number greater than or equal to 1.Guest Info - First & Last Name\, Business Name\, and Email AddressTotal\n							$0.00\n							\n						CAPTCHA\n          \n            \n            \n            \n            \n            \n            \n            \n            \n            \n        \n                        \n                        \n                \n                 gform.initializeOnLoaded( function() {gformInitSpinner( 92\, 'https://athenamo.org/app/plugins/gravityforms/images/spinner.svg' );jQuery('#gform_ajax_frame_92').on('load'\,function(){var contents = jQuery(this).contents().find('*').html();var is_postback = contents.indexOf('GF_AJAX_POSTBACK') >= 0;if(!is_postback){return;}var form_content = jQuery(this).contents().find('#gform_wrapper_92');var is_confirmation = jQuery(this).contents().find('#gform_confirmation_wrapper_92').length > 0;var is_redirect = contents.indexOf('gformRedirect(){') >= 0;var is_form = form_content.length > 0 && ! is_redirect && ! is_confirmation;var mt = parseInt(jQuery('html').css('margin-top')\, 10) + parseInt(jQuery('body').css('margin-top')\, 10) + 100;if(is_form){jQuery('#gform_wrapper_92').html(form_content.html());if(form_content.hasClass('gform_validation_error')){jQuery('#gform_wrapper_92').addClass('gform_validation_error');} else {jQuery('#gform_wrapper_92').removeClass('gform_validation_error');}setTimeout( function() { /* delay the scroll by 50 milliseconds to fix a bug in chrome */ jQuery(document).scrollTop(jQuery('#gform_wrapper_92').offset().top - mt); }\, 50 );if(window['gformInitDatepicker']) {gformInitDatepicker();}if(window['gformInitPriceFields']) {gformInitPriceFields();}var current_page = jQuery('#gform_source_page_number_92').val();gformInitSpinner( 92\, 'https://athenamo.org/app/plugins/gravityforms/images/spinner.svg' );jQuery(document).trigger('gform_page_loaded'\, [92\, current_page]);window['gf_submitting_92'] = false;}else if(!is_redirect){var confirmation_content = jQuery(this).contents().find('.GF_AJAX_POSTBACK').html();if(!confirmation_content){confirmation_content = contents;}setTimeout(function(){jQuery('#gform_wrapper_92').replaceWith(confirmation_content);jQuery(document).scrollTop(jQuery('#gf_92').offset().top - mt);jQuery(document).trigger('gform_confirmation_loaded'\, [92]);window['gf_submitting_92'] = false;wp.a11y.speak(jQuery('#gform_confirmation_message_92').text());}\, 50);}else{jQuery('#gform_92').append(contents);if(window['gformRedirect']) {gformRedirect();}}jQuery(document).trigger('gform_post_render'\, [92\, current_page]);} );} );  \nYou will be redirected to PayPal. \n \n  \n  \n
URL:https://athenamo.org/event/athena-speaker-luncheon-august-2024/
LOCATION:Community Living\, Inc.’s Family Center\, 107 Sheriff Dierker Court\, O'Fallon\, MO\, 63366
END:VEVENT
END:VCALENDAR