BEGIN:VCALENDAR
VERSION:2.0
PRODID:-//ATHENA Leadership Foundation - ECPv4.9.14.1//NONSGML v1.0//EN
CALSCALE:GREGORIAN
METHOD:PUBLISH
X-WR-CALNAME:ATHENA Leadership Foundation
X-ORIGINAL-URL:https://athenamo.org
X-WR-CALDESC:Events for ATHENA Leadership Foundation
BEGIN:VTIMEZONE
TZID:America/Chicago
BEGIN:DAYLIGHT
TZOFFSETFROM:-0600
TZOFFSETTO:-0500
TZNAME:CDT
DTSTART:20220313T080000
END:DAYLIGHT
BEGIN:STANDARD
TZOFFSETFROM:-0500
TZOFFSETTO:-0600
TZNAME:CST
DTSTART:20221106T070000
END:STANDARD
END:VTIMEZONE
BEGIN:VEVENT
DTSTART;TZID=America/Chicago:20220728T073000
DTEND;TZID=America/Chicago:20220728T090000
DTSTAMP:20260421T233847
CREATED:20220427T011039Z
LAST-MODIFIED:20220427T011039Z
UID:1099-1658993400-1658998800@athenamo.org
SUMMARY:ATHENA Membership Breakfast
DESCRIPTION:As another fiscal year draws to a close\, the board invites you to the ATHENA Membership Breakfast from 7:30 a.m. to 9 a.m. on Thursday\, July 28th. \nThis MEMBERS ONLY event includes a delicious breakfast and is included in your membership. \n  \nHere is a brief overview of the morning: \n\n7:30 a.m. Arrival & Networking\n8:00 a.m. Meeting Called to Order\n\nKey items of business include celebrating key highlights over the last 12 months\, finalizing priorities for the upcoming year\, and voting on the 2022-2023 Slate of Officers. \n\n9:00 a.m. Meeting Adjourns\n\nThere are a variety of leadership and service opportunities available in the coming year. If you are interested in participating on a committee and/or the board\, please let us know! \n\n
URL:https://athenamo.org/event/athena-membership-breakfast/
LOCATION:Prados\, 21 Meadows Circle Drive\, Lake St. Louis\, MO\, 63367
ATTACH;FMTTYPE=image/jpeg:https://athenamo.org/app/uploads/2022/04/download.jpg
END:VEVENT
END:VCALENDAR