BEGIN:VCALENDAR
VERSION:2.0
PRODID:-//ATHENA Leadership Foundation - ECPv4.9.14.1//NONSGML v1.0//EN
CALSCALE:GREGORIAN
METHOD:PUBLISH
X-WR-CALNAME:ATHENA Leadership Foundation
X-ORIGINAL-URL:https://athenamo.org
X-WR-CALDESC:Events for ATHENA Leadership Foundation
BEGIN:VTIMEZONE
TZID:America/Chicago
BEGIN:DAYLIGHT
TZOFFSETFROM:-0600
TZOFFSETTO:-0500
TZNAME:CDT
DTSTART:20240310T080000
END:DAYLIGHT
BEGIN:STANDARD
TZOFFSETFROM:-0500
TZOFFSETTO:-0600
TZNAME:CST
DTSTART:20241103T070000
END:STANDARD
END:VTIMEZONE
BEGIN:VEVENT
DTSTART;TZID=America/Chicago:20240927T080000
DTEND;TZID=America/Chicago:20240927T090000
DTSTAMP:20260422T113531
CREATED:20240727T193604Z
LAST-MODIFIED:20240727T193604Z
UID:1471-1727424000-1727427600@athenamo.org
SUMMARY:ATHENA Members Only - Coffee Chat
DESCRIPTION:ATHENA Coffee Chats is a time for members to come together in a more intimate\, small environment to chat\, share ideas and thoughts\, and get to know one another. One board member will be at each session.\n  \n\n \n \n
URL:https://athenamo.org/event/athena-members-only-coffee-chat-09272024/
ATTACH;FMTTYPE=image/png:https://athenamo.org/app/uploads/2024/07/Screenshot-2024-07-27-115658.png
END:VEVENT
END:VCALENDAR